BEGIN:VCALENDAR
VERSION:2.0
PRODID:-//Software ISO - ECPv6.15.20//NONSGML v1.0//EN
CALSCALE:GREGORIAN
METHOD:PUBLISH
X-WR-CALNAME:Software ISO
X-ORIGINAL-URL:https://test.isotools.org
X-WR-CALDESC:Eventos para Software ISO
REFRESH-INTERVAL;VALUE=DURATION:PT1H
X-Robots-Tag:noindex
X-PUBLISHED-TTL:PT1H
BEGIN:VTIMEZONE
TZID:Europe/Madrid
BEGIN:DAYLIGHT
TZOFFSETFROM:+0100
TZOFFSETTO:+0200
TZNAME:CEST
DTSTART:20210328T010000
END:DAYLIGHT
BEGIN:STANDARD
TZOFFSETFROM:+0200
TZOFFSETTO:+0100
TZNAME:CET
DTSTART:20211031T010000
END:STANDARD
BEGIN:DAYLIGHT
TZOFFSETFROM:+0100
TZOFFSETTO:+0200
TZNAME:CEST
DTSTART:20220327T010000
END:DAYLIGHT
BEGIN:STANDARD
TZOFFSETFROM:+0200
TZOFFSETTO:+0100
TZNAME:CET
DTSTART:20221030T010000
END:STANDARD
BEGIN:DAYLIGHT
TZOFFSETFROM:+0100
TZOFFSETTO:+0200
TZNAME:CEST
DTSTART:20230326T010000
END:DAYLIGHT
BEGIN:STANDARD
TZOFFSETFROM:+0200
TZOFFSETTO:+0100
TZNAME:CET
DTSTART:20231029T010000
END:STANDARD
END:VTIMEZONE
BEGIN:VEVENT
DTSTART;TZID=Europe/Madrid:20220915T160000
DTEND;TZID=Europe/Madrid:20220915T160000
DTSTAMP:20260422T121649
CREATED:20220826T115655Z
LAST-MODIFIED:20220909T114440Z
UID:103221-1663257600-1663257600@test.isotools.org
SUMMARY:Webinar Gratuito. Mejora continua en el Sistema de Gestión HSE. Clave para el éxito sostenido y sostenible
DESCRIPTION:[vc_row][vc_column][/vc_column][/vc_row][vc_row full_width=»stretch_row» gap=»35″][vc_column width=»2/3″ css=».vc_custom_1658817718473{padding-top: 35px !important;padding-right: 50px !important;}» el_class=»titular-seccion»]Introducción[vc_empty_space height=»7px» el_class=»separador-naranja centrado»][vc_column_text]\nUn Sistema de Gestión HSE\, se conforma por un conjunto de elementos mutuamente interrelacionados y que interactúan entre sí\, en búsqueda de un objetivo principal: proteger la seguridad y salud de los trabajadores\, y minimizar los impactos ambientales. \nEl sistema de gestión HSE debe buscar que su alcance sea el adecuado para la organización. También tendrá que buscar elementos que le permitan estar en constante mejora\, con el fin de ser adaptable a los cambios tanto externos como internos\, y poder estar preparado para enfrentarlos. \nUn elemento fundamental\, cuyo propósito es casi que exclusivo para demostrar mejora continua dentro del sistema de gestión\, es la gestión del cambio. Esta cuestión será la que aborden nuestros expertos ponentes en el Webinar del día 15 de septiembre. \n[/vc_column_text][vc_empty_space height=»15″][vc_row_inner gap=»20″][vc_column_inner width=»1/2″]Objetivo[vc_empty_space height=»7px» el_class=»separador-naranja centrado»][vc_column_text]\n\nFacilitar una visión general en torno a las claves para mantener el éxito sostenido y sostenible en el Sistema de Gestión.\n\n[/vc_column_text][/vc_column_inner][vc_column_inner width=»1/2″]Beneficios[vc_empty_space height=»7px» el_class=»separador-naranja centrado»][vc_column_text]\n\nComprender la importancia de la mejora continua en el Sistema de Gestión HSE.\nSer capaz de implementar de manera práctica los conocimientos adquiridos en la propia organización.\n\n[/vc_column_text][/vc_column_inner][/vc_row_inner][vc_empty_space height=»15″]Dirigido a[vc_empty_space height=»7px» el_class=»separador-naranja centrado»][vc_column_text]\nResponsables de Sistemas de Gestión; personal conocedor de Sistemas Gestión; responsables de procesos; gerentes de riesgos; encargados planificación estratégica; personal implicado en el desarrollo de nuevos productos y servicios; emprendedores\, consultores y auditores de certificación; licenciados y profesionales técnicos en Ingenierías técnicas o industrial\, Gestión de Proyectos\, Administración\, Comercial que desean orientar su desarrollo de carrera hacia la gestión de riesgos. \n[/vc_column_text][/vc_column][vc_column width=»1/3″ el_class=»columna-derecha-evento»][vc_empty_space]Empresas colaboradoras[vc_empty_space height=»15px»][vc_empty_space height=»15px»]Expertos Ponentes[vc_empty_space height=»15px»][vc_row_inner content_placement=»middle» el_class=»ponentes»][vc_column_inner width=»1/3″][vc_empty_space][vc_single_image image=»52325″][/vc_column_inner][vc_column_inner width=»2/3″][vc_column_text]\nMargot López\nDirectora ISOTools Perú \n[/vc_column_text][/vc_column_inner][/vc_row_inner][vc_row_inner content_placement=»middle»][vc_column_inner width=»1/3″][vc_empty_space][vc_single_image image=»102689″][/vc_column_inner][vc_column_inner width=»2/3″][vc_column_text]\nCarlos García\nConsultor Sistemas Integrados de Gestión HSEQ \n[/vc_column_text][/vc_column_inner][/vc_row_inner][vc_row_inner content_placement=»middle»][vc_column_inner width=»1/3″][vc_empty_space][vc_single_image image=»52375″][/vc_column_inner][vc_column_inner width=»2/3″][vc_column_text]\nDiego Cobeñas\nAccount Manager en ISOTools Excellence Perú \n[/vc_column_text][/vc_column_inner][/vc_row_inner][vc_empty_space height=»40px»]Evento gratuito[vc_empty_space height=»15px»][vc_row_inner][vc_column_inner]\n\nFormación 100% Online\n\n\n\nJueves 15 de septiembre\, 2022\n\n\n\n16:00h. (Hora España 🇪🇸)\n\n[/vc_column_inner][/vc_row_inner][/vc_column][/vc_row][vc_row][vc_column][/vc_column][/vc_row][vc_row full_width=»stretch_row» equal_height=»yes» wpex_shape_divider_top=»tilt» wpex_shape_divider_top_flip=»true» wpex_shape_divider_bottom=»tilt» wpex_shape_divider_bottom_flip=»true» css=».vc_custom_1659943233760{background-color: #ebebeb !important;}» wpex_shape_divider_bottom_color=»#ffffff» wpex_shape_divider_bottom_height=»80″ el_class=»forzarProgramacionwebinar» wpex_shape_divider_top_height=»80″][vc_column width=»1/6″][/vc_column][vc_column width=»2/3″ el_class=»titular-seccion»]Programa[vc_empty_space height=»7px» el_class=»separador-naranja centrado»][vc_row_inner gap=»30″][vc_column_inner]Presentación del Webinar. Margot López16:00 – 16:10 \nMejora continua en el Sistema de Gestión HSE. Clave para el éxito sostenido y sostenible. Carlos García16:10 – 16:40 \nDemo ISOTools. Diego Cobeñas16:40 – 17:00 \nTurno de preguntas.17:00 – 17:05 \n[/vc_column_inner][/vc_row_inner][/vc_column][vc_column width=»1/6″][/vc_column][/vc_row][vc_section][vc_row][vc_column][vc_acf field_group=»52579″ field_from_52579=»field_62c3de2921e4e» align=»center»][/vc_column][/vc_row][/vc_section][vc_row][vc_column][/vc_column][/vc_row]
URL:https://test.isotools.org/eventos/mejora-continua-gestion-hse-clave-exito-sostenido-y-sostenible/
LOCATION:Online
CATEGORIES:Webinar Jueves
ATTACH;FMTTYPE=image/jpeg:https://test.isotools.org/wp-content/uploads/2022/08/WB_15-09.jpg
END:VEVENT
BEGIN:VEVENT
DTSTART;TZID=Europe/Madrid:20220908T160000
DTEND;TZID=Europe/Madrid:20220908T160000
DTSTAMP:20260422T121649
CREATED:20220809T111859Z
LAST-MODIFIED:20220901T071511Z
UID:102971-1662652800-1662652800@test.isotools.org
SUMMARY:Webinar Gratuito. Gestión de Riesgos y Oportunidades según ISO 9001. Mejores prácticas
DESCRIPTION:[vc_row][vc_column][/vc_column][/vc_row][vc_row full_width=»stretch_row» gap=»35″][vc_column width=»2/3″ css=».vc_custom_1658817718473{padding-top: 35px !important;padding-right: 50px !important;}» el_class=»titular-seccion»]Introducción[vc_empty_space height=»7px» el_class=»separador-naranja centrado»][vc_column_text]\nLa gestión de Riesgos y Oportunidades en la ISO 9001 es uno de los puntos claves y de los que más rendimiento pueden generar en cualquier organización. Sin duda\, también es uno de los que más dudas generan entre las organizaciones. \nLas empresas y organizaciones que llevan a cabo la gestión de los riesgos de manera eficaz cuentan con más posibilidades a la hora de protegerse de los riesgos y aprovechar las oportunidades de mejora para lograr el éxito en el crecimiento de sus negocios. Para toda organización\, el reto consiste en lograr integrar buenas prácticas en sus actividades diarias y aplicarlas al mayor número de operaciones de la empresa. \nPara conseguir esta gestión eficaz de los riesgos y oportunidades tal como indica la ISO 9001\, una organización necesitará tiempo y recursos así como mejorar de forma contínua o bien pueden tener en cuenta una serie de buenas prácticas internacionales detectadas en grandes organizaciones de todo el mundo\, incluyendo entre ellas el empleo de las herramientas específicas que permitan la automatización de procesos en el SGC. \n[/vc_column_text][vc_empty_space height=»15″][vc_row_inner gap=»20″][vc_column_inner width=»1/2″]Objetivo[vc_empty_space height=»7px» el_class=»separador-naranja centrado»][vc_column_text]\n\nEl principal objetivo de este evento es detectar las prácticas puestas en marcha por organizaciones de primer nivel en todo el mundo a la hora de gestionar sus riesgos y oportunidades y transmitirlas a los asistentes de forma comprensible y práctica.\n\n[/vc_column_text][/vc_column_inner][vc_column_inner width=»1/2″]Beneficios[vc_empty_space height=»7px» el_class=»separador-naranja centrado»][vc_column_text]\n\nConocer las mejores prácticas empleadas por organizaciones internacionales en la gestión de sus riesgos y oportunidades.\nConocer cómo ISOTools integra y aporta estas mejores prácticas detectadas a lo largo de 25 años ayudando a las organizaciones a ser más ágiles y competitivas.\n\n[/vc_column_text][/vc_column_inner][/vc_row_inner][vc_empty_space height=»15″]Dirigido a[vc_empty_space height=»7px» el_class=»separador-naranja centrado»][vc_column_text]\nEste evento está dirigido a responsables de sistemas de gestión\, directivos y responsables de calidad e innovación\, mandos intermedios y personal implicado en los sistemas de gestión. \n[/vc_column_text][/vc_column][vc_column width=»1/3″ el_class=»columna-derecha-evento»][vc_empty_space]Empresas colaboradoras[vc_empty_space height=»15px»][vc_empty_space height=»15px»]Expertos Ponentes[vc_empty_space height=»15px»][vc_row_inner content_placement=»middle» el_class=»ponentes»][vc_column_inner width=»1/3″][vc_empty_space][vc_single_image image=»52325″][/vc_column_inner][vc_column_inner width=»2/3″][vc_column_text]\nMargot López\nDirectora ISOTools Perú \n[/vc_column_text][/vc_column_inner][/vc_row_inner][vc_row_inner content_placement=»middle» el_class=»ponentes»][vc_column_inner width=»1/3″][vc_empty_space][vc_single_image image=»102689″][/vc_column_inner][vc_column_inner width=»2/3″][vc_column_text]\nCarlos Andrés García\nConsultor Sistemas Integrados de Gestión HSEQ \n[/vc_column_text][/vc_column_inner][/vc_row_inner][vc_row_inner content_placement=»middle»][vc_column_inner width=»1/3″][vc_empty_space][vc_single_image image=»52375″][/vc_column_inner][vc_column_inner width=»2/3″][vc_column_text]\nDiego Cobeñas\nAccount Manager en ISOTools Excellence Perú \n[/vc_column_text][/vc_column_inner][/vc_row_inner][vc_empty_space height=»40px»]Evento gratuito[vc_empty_space height=»15px»][vc_row_inner][vc_column_inner]\n\nFormación 100% Online\n\n\n\nJueves 08 de septiembre\, 2022\n\n\n\n16:00h. (Hora España 🇪🇸)\n\n[/vc_column_inner][/vc_row_inner][/vc_column][/vc_row][vc_row][vc_column][/vc_column][/vc_row][vc_row full_width=»stretch_row» equal_height=»yes» wpex_shape_divider_top=»tilt» wpex_shape_divider_top_flip=»true» wpex_shape_divider_bottom=»tilt» wpex_shape_divider_bottom_flip=»true» css=».vc_custom_1659943233760{background-color: #ebebeb !important;}» wpex_shape_divider_bottom_color=»#ffffff» wpex_shape_divider_bottom_height=»80″ el_class=»forzarProgramacionwebinar» wpex_shape_divider_top_height=»80″][vc_column width=»1/6″][/vc_column][vc_column width=»2/3″ el_class=»titular-seccion»]Programa[vc_empty_space height=»7px» el_class=»separador-naranja centrado»][vc_row_inner gap=»30″][vc_column_inner]Presentación del Webinar. Margot López16:00 – 16:10 \nWebinar. Gestión de Riesgos y Oportunidades según ISO 9001. Mejores prácticas. Carlos García16:10 – 16:40 \nDemo ISOTools. Diego Cobeñas16:40 – 17:00 \nTurno de preguntas.17:00 – 17:05 \n[/vc_column_inner][/vc_row_inner][/vc_column][vc_column width=»1/6″][/vc_column][/vc_row][vc_section][vc_row][vc_column][vc_acf field_group=»52579″ field_from_52579=»field_62c3de2921e4e» align=»center»][/vc_column][/vc_row][/vc_section][vc_row][vc_column][/vc_column][/vc_row]
URL:https://test.isotools.org/eventos/webinar-gestion-de-riesgos-y-oportunidades-segun-iso-9001-mejores-practicas/
LOCATION:Online
CATEGORIES:Webinar Jueves
ATTACH;FMTTYPE=image/jpeg:https://test.isotools.org/wp-content/uploads/2022/08/WB_08-09-2022.jpg
END:VEVENT
BEGIN:VEVENT
DTSTART;TZID=Europe/Madrid:20220825T160000
DTEND;TZID=Europe/Madrid:20220825T160000
DTSTAMP:20260422T121649
CREATED:20220722T081030Z
LAST-MODIFIED:20220829T100757Z
UID:102687-1661443200-1661443200@test.isotools.org
SUMMARY:Webinar: Checklist aplicados en HSE. Cómo maximizar el desempeño.
DESCRIPTION:[vc_row][vc_column][/vc_column][/vc_row][vc_row full_width=»stretch_row» gap=»35″][vc_column width=»2/3″ css=».vc_custom_1657009546232{padding-top: 35px !important;padding-right: 50px !important;}» el_class=»titular-seccion»]Introducción[vc_empty_space height=»7px» el_class=»separador-naranja centrado»][vc_column_text]\nUn checklist de seguridad en el trabajo es una herramienta que se utiliza por los encargados de la seguridad\, con el objetivo de inspeccionar los entornos de trabajo para identificar las situaciones\, condiciones inseguras y prácticas laborales que probablemente provoquen lesiones. Este tipo de checklist también ayuda a las diferentes organizaciones a implementar las mejores prácticas recientes para los cambios en el lugar de trabajo que afectan la integridad de los empleados. \nCada área de trabajo\, tiene su peligro y los encargados de seguridad y salud en el trabajo deben identificar qué checklist son las apropiadas para las diversas áreas y procesos específicos con el fin de garantizar que se haga cumplimiento de las normas de seguridad. \nLa seguridad en el área de trabajo es muy importante para cualquier industria porque todos los trabajadores desean trabajar en un ambiente seguro y protegido. Todas las industrias tienen riesgos\, pero al realizar las implementaciones de precaución\, las organizaciones pueden garantizar la condición de seguridad de sus trabajadores en todo momento. \n[/vc_column_text][vc_empty_space height=»15″][vc_row_inner gap=»20″][vc_column_inner width=»1/2″]Objetivo[vc_empty_space height=»7px» el_class=»separador-naranja centrado»][vc_column_text]\n\nEl principal objetivo de este evento es conocer cómo maximizar el desempeño de las checklist o listas de verificación aplicadas en HSE.\n\n[/vc_column_text][/vc_column_inner][vc_column_inner width=»1/2″]Beneficios[vc_empty_space height=»7px» el_class=»separador-naranja centrado»][vc_column_text]\n\nAprender qué prácticas están relacionadas con la maximización del desempeño de las checklist aplicadas en HSE\nAdquirir una visión general y replicable de manera práctica en el interior de su organización en torno a la importancia y utilización de checklist en HSE.\n\n[/vc_column_text][/vc_column_inner][/vc_row_inner][vc_empty_space height=»15″]Dirigido a[vc_empty_space height=»7px» el_class=»separador-naranja centrado»][vc_column_text]\nResponsables de Sistemas de Gestión; personal conocedor de Sistemas Gestión\, que deseen ampliar su campo profesional; responsables de procesos; gerentes de riesgos; encargados planificación estratégica; personal implicado en el desarrollo de nuevos productos y servicios; emprendedores\, consultores y auditores de certificación; personal con formación en Gestión de Riesgos\, Administración\, Ingenierías técnicas o industrial\, Comercial\, Gestión de Proyectos y Seguridad de la Información; licenciados y profesionales técnicos en Ingenierías técnicas o industrial\, Gestión de Proyectos\, Administración\, Comercial. \n[/vc_column_text][/vc_column][vc_column width=»1/3″ el_class=»columna-derecha-evento»][vc_empty_space]Empresas colaboradoras[vc_empty_space height=»15px»][vc_empty_space height=»15px»]Expertos Ponentes[vc_empty_space height=»15px»][vc_row_inner content_placement=»middle» el_class=»ponentes»][vc_column_inner width=»1/3″][vc_empty_space][vc_single_image image=»51961″][/vc_column_inner][vc_column_inner width=»2/3″][vc_column_text]\nEliel Sepúlveda\nConsultor ISOTools Excellence Chile[/vc_column_text][/vc_column_inner][/vc_row_inner][vc_row_inner content_placement=»middle»][vc_column_inner width=»1/3″][vc_empty_space][vc_single_image image=»53976″][/vc_column_inner][vc_column_inner width=»2/3″][vc_column_text]\nMarcelo Carreño\nDirector ISOTools Chile[/vc_column_text][/vc_column_inner][/vc_row_inner][vc_row_inner content_placement=»middle»][vc_column_inner width=»1/3″][vc_empty_space][vc_single_image image=»102689″][/vc_column_inner][vc_column_inner width=»2/3″][vc_column_text]\nCarlos Andrés García\nConsultor Sistemas Integrados de Gestión HSEQ[/vc_column_text][/vc_column_inner][/vc_row_inner][vc_empty_space height=»40px»]Evento gratuito[vc_empty_space height=»15px»][vc_row_inner][vc_column_inner]\n\nFormación 100% Online\n\n\n\nJueves 25 de agosto\, 2022\n\n\n\n16:00h. (Hora España 🇪🇸)\n\n[/vc_column_inner][/vc_row_inner][/vc_column][/vc_row][vc_row][vc_column][/vc_column][/vc_row][vc_row full_width=»stretch_row» equal_height=»yes» wpex_shape_divider_top=»tilt» wpex_shape_divider_top_flip=»true» wpex_shape_divider_bottom=»tilt» wpex_shape_divider_bottom_flip=»true» css=».vc_custom_1659941382960{background-color: #ebebeb !important;}» wpex_shape_divider_bottom_color=»#ffffff» wpex_shape_divider_bottom_height=»80″ el_class=»forzarProgramacionwebinar» wpex_shape_divider_top_height=»80″][vc_column width=»1/6″][/vc_column][vc_column width=»2/3″ el_class=»titular-seccion»]Programa[vc_empty_space height=»7px» el_class=»separador-naranja centrado»][vc_row_inner gap=»30″][vc_column_inner]Presentación del Webinar. Marcelo Carreño16:00 – 16:10 \nWebinar. Checklist aplicados en HSE. Cómo maximizar el desempeño. Carlos García16:10 – 16:40 \nDemo ISOTools. Eliel Sepúlveda16:40 – 17:00 \nTurno de preguntas.17:00 – 17:05 \n[/vc_column_inner][/vc_row_inner][/vc_column][vc_column width=»1/6″][/vc_column][/vc_row][vc_section][vc_row][vc_column][vc_acf field_group=»52579″ field_from_52579=»field_62c3de2921e4e» align=»center»][/vc_column][/vc_row][/vc_section][vc_row][vc_column][/vc_column][/vc_row]
URL:https://test.isotools.org/eventos/webinar-checklist-aplicados-en-hse-como-maximizar-el-desempeno/
LOCATION:Online
CATEGORIES:Webinar Jueves
ATTACH;FMTTYPE=image/jpeg:https://test.isotools.org/wp-content/uploads/2022/07/WB_25-08-2022.jpg
END:VEVENT
BEGIN:VEVENT
DTSTART;TZID=Europe/Madrid:20220811T160000
DTEND;TZID=Europe/Madrid:20220811T160000
DTSTAMP:20260422T121649
CREATED:20220720T124448Z
LAST-MODIFIED:20220829T100818Z
UID:102647-1660233600-1660233600@test.isotools.org
SUMMARY:Webinar: Business Intelligence para la toma de decisiones ISO 9001
DESCRIPTION:[vc_row][vc_column][/vc_column][/vc_row][vc_row full_width=»stretch_row» gap=»35″][vc_column width=»2/3″ css=».vc_custom_1657009546232{padding-top: 35px !important;padding-right: 50px !important;}» el_class=»titular-seccion»]Introducción[vc_empty_space height=»7px» el_class=»separador-naranja centrado»][vc_column_text]\nBusiness Intelligence es la habilidad que existe para transformar los datos en información\, y la información en conocimiento\, de manera que se pueda optimizar el proceso de toma de decisiones en los negocios. Desde un punto de vista más pragmático y asociado con las tecnologías de la información\, se puede definir Business Intelligence como el conjunto de metodología\, aplicaciones y tecnologías que permiten reunir\, depurar y transformar los datos de los sistemas transaccionales e información desestructurada en información estructura\, para la explotación directa o para analizar el conocimiento\, dando así soporte a la toma de decisiones sobre el negocio. \nPor su parte\, la norma ISO 9001 define los requisitos para un Sistema de Gestión de la Calidad (SGC). La ISO 9001 tiene el objetivo de establecer los requisitos que una empresa u organización debe seguir para gestionar y controlar de manera continua\, la calidad en todos sus procesos. \nCon todo ello\, en el Webinar del próximo 11 de agosto\, Ana Sanz Pastor\, experta ponente\, dedicará este espacio a la temática que vincula BI con los procesos de toma de decisiones para la norma ISO 9001. \n[/vc_column_text][vc_empty_space height=»15″][vc_row_inner gap=»20″][vc_column_inner width=»1/2″]Objetivo[vc_empty_space height=»7px» el_class=»separador-naranja centrado»][vc_column_text]\n\nEl principal objetivo de este evento es conocer la vinculación existente entre Business Intelligence con los procesos de toma de decisiones para la norma ISO 9001.\n\n[/vc_column_text][/vc_column_inner][vc_column_inner width=»1/2″]Beneficios[vc_empty_space height=»7px» el_class=»separador-naranja centrado»][vc_column_text]\n\nPoder manejar con soltura el concepto de Business Intelligence y conocer sus implicaciones en el panorama empresarial actual.\nEntender su vinculación en torno a la toma de decisiones óptimas en lo relativo a la norma ISO 9001.\n\n[/vc_column_text][/vc_column_inner][/vc_row_inner][vc_empty_space height=»15″]Dirigido a[vc_empty_space height=»7px» el_class=»separador-naranja centrado»][vc_column_text]\nEste evento está dirigido a responsables de calidad\, mandos intermedios o técnicos. \n[/vc_column_text][/vc_column][vc_column width=»1/3″ el_class=»columna-derecha-evento»][vc_empty_space]Empresas colaboradoras[vc_empty_space height=»15px»][vc_empty_space height=»15px»]Expertos Ponentes[vc_empty_space height=»15px»][vc_row_inner content_placement=»middle» el_class=»ponentes»][vc_column_inner width=»1/3″][vc_empty_space][vc_single_image image=»52325″][/vc_column_inner][vc_column_inner width=»2/3″][vc_column_text]\nMargot López\nDirectora ISOTools Perú[/vc_column_text][/vc_column_inner][/vc_row_inner][vc_row_inner content_placement=»middle»][vc_column_inner width=»1/3″][vc_empty_space][vc_single_image image=»52324″][/vc_column_inner][vc_column_inner width=»2/3″][vc_column_text]\nGilberth Araujo\nProduct Manager ISOTools Excellence[/vc_column_text][/vc_column_inner][/vc_row_inner][vc_row_inner content_placement=»middle»][vc_column_inner width=»1/3″][vc_empty_space][vc_single_image image=»102662″][/vc_column_inner][vc_column_inner width=»2/3″][vc_column_text]\nAna Sanz Pastor\nExperta en gestión de la calidad y optimización de procesos y sus interacciones[/vc_column_text][/vc_column_inner][/vc_row_inner][vc_empty_space height=»40px»]Evento gratuito[vc_empty_space height=»15px»][vc_row_inner][vc_column_inner]\n\nFormación 100% Online\n\n\n\nJueves 11 de agosto\, 2022\n\n\n\n16:00h. (Hora España 🇪🇸)\n\n[/vc_column_inner][/vc_row_inner][/vc_column][/vc_row][vc_row][vc_column][/vc_column][/vc_row][vc_row full_width=»stretch_row» equal_height=»yes» wpex_shape_divider_top=»tilt» wpex_shape_divider_top_flip=»true» wpex_shape_divider_bottom=»tilt» wpex_shape_divider_bottom_flip=»true» css=».vc_custom_1658318435120{background-color: #ebebeb !important;}» wpex_shape_divider_bottom_color=»#ffffff» wpex_shape_divider_bottom_height=»80″ el_class=»forzarProgramacion» wpex_shape_divider_top_height=»80″][vc_column width=»1/6″][/vc_column][vc_column width=»2/3″ el_class=»titular-seccion»]Programa[vc_empty_space height=»7px» el_class=»separador-naranja centrado»][vc_row_inner gap=»30″][vc_column_inner width=»1/2″]Presentación del Webinar. Margot López⇩\n16:00 – 16:10 \nDemo ISOTools. Gilberth Araujo⇩\n16:40 – 17:00 \n[/vc_column_inner][vc_column_inner width=»1/2″]Webinar. Business Intelligence para la toma de decisiones ISO 9001. Ana Sanz Pastor⇩\n16:10 – 16:40 \nTurno de preguntas.⇩\n17:00 – 17:05 \n[/vc_column_inner][/vc_row_inner][/vc_column][vc_column width=»1/6″][/vc_column][/vc_row][vc_section][vc_row][vc_column][vc_acf field_group=»52579″ field_from_52579=»field_62c3de2921e4e» align=»center»][/vc_column][/vc_row][/vc_section]
URL:https://test.isotools.org/eventos/webinar-business-intelligence-para-la-toma-de-decisiones-iso-9001/
LOCATION:Online
CATEGORIES:Webinar Jueves
ATTACH;FMTTYPE=image/jpeg:https://test.isotools.org/wp-content/uploads/2022/07/11-08-2022.jpg
END:VEVENT
END:VCALENDAR